BEGIN:VCALENDAR
VERSION:2.0
PRODID:-//Treasure Coast Food Bank - ECPv6.15.13//NONSGML v1.0//EN
CALSCALE:GREGORIAN
METHOD:PUBLISH
X-WR-CALNAME:Treasure Coast Food Bank
X-ORIGINAL-URL:https://stophunger.org
X-WR-CALDESC:Events for Treasure Coast Food Bank
REFRESH-INTERVAL;VALUE=DURATION:PT1H
X-Robots-Tag:noindex
X-PUBLISHED-TTL:PT1H
BEGIN:VTIMEZONE
TZID:America/New_York
BEGIN:DAYLIGHT
TZOFFSETFROM:-0500
TZOFFSETTO:-0400
TZNAME:EDT
DTSTART:20170312T070000
END:DAYLIGHT
BEGIN:STANDARD
TZOFFSETFROM:-0400
TZOFFSETTO:-0500
TZNAME:EST
DTSTART:20171105T060000
END:STANDARD
BEGIN:DAYLIGHT
TZOFFSETFROM:-0500
TZOFFSETTO:-0400
TZNAME:EDT
DTSTART:20180311T070000
END:DAYLIGHT
BEGIN:STANDARD
TZOFFSETFROM:-0400
TZOFFSETTO:-0500
TZNAME:EST
DTSTART:20181104T060000
END:STANDARD
BEGIN:DAYLIGHT
TZOFFSETFROM:-0500
TZOFFSETTO:-0400
TZNAME:EDT
DTSTART:20190310T070000
END:DAYLIGHT
BEGIN:STANDARD
TZOFFSETFROM:-0400
TZOFFSETTO:-0500
TZNAME:EST
DTSTART:20191103T060000
END:STANDARD
END:VTIMEZONE
BEGIN:VEVENT
DTSTART;TZID=America/New_York:20181110T183000
DTEND;TZID=America/New_York:20181110T213000
DTSTAMP:20260423T063224
CREATED:20180712T214118Z
LAST-MODIFIED:20240521T155601Z
UID:11243-1541874600-1541885400@stophunger.org
SUMMARY:Fall Harvest Farm-to-Table Dinner - Treasure Coast Food Bank
DESCRIPTION:  \nThank you for your interest in attending our Fall Harvest Dinner. The event is sold out but we hope to see you at our Spring Forward for Hunger Brunch at Kai-Kai Farms on March 30th. Stay tuned for details or join us on Facebook for more information\n \nMenu Highlights include: \n\nCharcrudite Station\nMixed Greens Salad\nChicken Marsala\nPork Loin carving station with Dijon creme sauce\nGarlic Mashed Potatoes with herb sour cream\nGreen Beans Almandine with herb roasted almonds\nWild Thyme Runner Punch made with Tito’s Vodka\nDessert provided by Healthy Harvest Catering – a program of Treasure Coast Food Bank\n\nSponsorship Opportunities available. Click here for details.\nContact: Rebecca Rodriguez at rrodriguez@tcfoodbank.org or call 772.446.1757. \n 
URL:https://stophunger.org/event/falldinner2018/
ATTACH;FMTTYPE=image/jpeg:https://stophunger.org/wp-content/uploads/2018/07/Farm2TableDinner-EventLogo3.jpg
END:VEVENT
END:VCALENDAR