BEGIN:VCALENDAR
VERSION:2.0
PRODID:-//Treasure Coast Food Bank - ECPv6.15.13//NONSGML v1.0//EN
CALSCALE:GREGORIAN
METHOD:PUBLISH
X-WR-CALNAME:Treasure Coast Food Bank
X-ORIGINAL-URL:https://stophunger.org
X-WR-CALDESC:Events for Treasure Coast Food Bank
REFRESH-INTERVAL;VALUE=DURATION:PT1H
X-Robots-Tag:noindex
X-PUBLISHED-TTL:PT1H
BEGIN:VTIMEZONE
TZID:America/New_York
BEGIN:DAYLIGHT
TZOFFSETFROM:-0500
TZOFFSETTO:-0400
TZNAME:EDT
DTSTART:20230312T070000
END:DAYLIGHT
BEGIN:STANDARD
TZOFFSETFROM:-0400
TZOFFSETTO:-0500
TZNAME:EST
DTSTART:20231105T060000
END:STANDARD
BEGIN:DAYLIGHT
TZOFFSETFROM:-0500
TZOFFSETTO:-0400
TZNAME:EDT
DTSTART:20240310T070000
END:DAYLIGHT
BEGIN:STANDARD
TZOFFSETFROM:-0400
TZOFFSETTO:-0500
TZNAME:EST
DTSTART:20241103T060000
END:STANDARD
BEGIN:DAYLIGHT
TZOFFSETFROM:-0500
TZOFFSETTO:-0400
TZNAME:EDT
DTSTART:20250309T070000
END:DAYLIGHT
BEGIN:STANDARD
TZOFFSETFROM:-0400
TZOFFSETTO:-0500
TZNAME:EST
DTSTART:20251102T060000
END:STANDARD
END:VTIMEZONE
BEGIN:VEVENT
DTSTART;TZID=America/New_York:20240503T081500
DTEND;TZID=America/New_York:20240503T093000
DTSTAMP:20260424T054635
CREATED:20240213T191630Z
LAST-MODIFIED:20240521T161254Z
UID:16640-1714724100-1714728600@stophunger.org
SUMMARY:Food For Thought Monthly Education & Learning Series - Treasure Coast Food Bank Food
DESCRIPTION:Learn more about your food bank. \n\nTreasure Coast Food Bank Food for Thought Learning Series events are interactive\, fun\, and free to community members\, professionals\, volunteers\, supporters\, partners\, and anyone who wants an inside look at the work Treasure Coast Food Bank is doing every day to alleviate hunger and food insecurity. \nSessions will be held at multiple locations throughout our service areas and each month will feature a different topic and a tour. Topics may include: nutrition education\, health and wellness\, children’s programs\, emergency preparedness\, job training\, and much more! \nRegister Here \nbit.ly/FoodForThoughtTCFB \n  \n 
URL:https://stophunger.org/event/copy-of-food-for-thought-monthly-education-learning-series/
ATTACH;FMTTYPE=image/png:https://stophunger.org/wp-content/uploads/2024/02/Copy-of-Food-For-Thought-Presentation-May-Older-Americans-Month-2.png
END:VEVENT
END:VCALENDAR